BEGIN:VCALENDAR
VERSION:2.0
PRODID:-//Tukios.com/
BEGIN:VEVENT
UID:5ddd8092-7d0f-42e9-9b25-8d24f82a5103@www.newcomerbuffalo.com
DTSTAMP:20260423T173605Z
DTSTART:20260427T133000Z
DTEND:20260427T143000Z
SUMMARY:Mass of Christian Burial
DESCRIPTION:
URL:https://www.newcomerbuffalo.com/obituaries/alene-roll
LOCATION:St Gabriel's RC Church 5271 Clinton St  Elma NY 14059
GEO:42.8607904;-78.6889404
END:VEVENT
END:VCALENDAR