BEGIN:VCALENDAR
VERSION:2.0
PRODID:-//Tukios.com/
BEGIN:VEVENT
UID:83818161-0e47-4047-af0e-4041f11de2e7@www.newcomerbuffalo.com
DTSTAMP:20260423T174147Z
DTSTART:20260426T200000Z
DTEND:20260427T000000Z
SUMMARY:Visitation
DESCRIPTION:
URL:https://www.newcomerbuffalo.com/obituaries/alene-roll
LOCATION: 5090 Transit Rd  Depew NY 14043
GEO:42.8906415;-78.6977634
END:VEVENT
END:VCALENDAR